BEGIN:VCALENDAR
VERSION:2.0
METHOD:PUBLISH
PRODID:-//Accessible Web Design//My Calendar//http://www.mywpcal.com//v2.2.13//EN
BEGIN:VEVENT
UID:5758-2463
LOCATION:     
SUMMARY:off
DTSTAMP:20230601T000000
ORGANIZER;CN=WadaK:MAILTO:oxocreative@gmail.com
DTSTART:20230601T000000
DTEND:20230601T000000
URL;VALUE=URI:http://ris-ken50.net
DESCRIPTION:
CATEGORIES:現役
END:VEVENT
BEGIN:VEVENT
UID:5765-2470
LOCATION:     
SUMMARY:通常稽古
DTSTAMP:20230602T180000
ORGANIZER;CN=WadaK:MAILTO:oxocreative@gmail.com
DTSTART:20230602T180000
DTEND:20230602T203000
URL;VALUE=URI:http://ris-ken50.net
DESCRIPTION:品川18:00集合　18:30-20:30稽古
CATEGORIES:現役
END:VEVENT
BEGIN:VEVENT
UID:5783-2488
LOCATION:     
SUMMARY:通常稽古
DTSTAMP:20230603T100000
ORGANIZER;CN=WadaK:MAILTO:oxocreative@gmail.com
DTSTART:20230603T100000
DTEND:20230603T130000
URL;VALUE=URI:http://ris-ken50.net
DESCRIPTION:品川10:30集合　11:00-13:00稽古
CATEGORIES:現役
END:VEVENT
BEGIN:VEVENT
UID:5785-2490
LOCATION:     
SUMMARY:第29回東京都学生剣道選手権大会+通常稽古
DTSTAMP:20230604T083000
ORGANIZER;CN=WadaK:MAILTO:oxocreative@gmail.com
DTSTART:20230604T083000
DTEND:20230604T170000
URL;VALUE=URI:http://ris-ken50.net
DESCRIPTION:大会：青山学院大学記念アリーナメンバー外：品川　10:00集合　10:30-13:00稽古
CATEGORIES:現役
END:VEVENT
BEGIN:VEVENT
UID:5779-2484
LOCATION:     
SUMMARY:通常稽古
DTSTAMP:20230605T100000
ORGANIZER;CN=WadaK:MAILTO:oxocreative@gmail.com
DTSTART:20230605T100000
DTEND:20230605T200000
URL;VALUE=URI:http://ris-ken50.net
DESCRIPTION:品川男子①：10:00集合　10:30-12:00稽古女子②：12:50集合　13:00-14:00稽古男子③：18:00集合　18:30-20:00稽古
CATEGORIES:現役
END:VEVENT
BEGIN:VEVENT
UID:5766-2471
LOCATION:     
SUMMARY:通常稽古
DTSTAMP:20230606T180000
ORGANIZER;CN=WadaK:MAILTO:oxocreative@gmail.com
DTSTART:20230606T180000
DTEND:20230606T203000
URL;VALUE=URI:http://ris-ken50.net
DESCRIPTION:品川18:00集合　18:30-20:30稽古
CATEGORIES:現役
END:VEVENT
BEGIN:VEVENT
UID:5774-2479
LOCATION:     
SUMMARY:通常稽古
DTSTAMP:20230607T161500
ORGANIZER;CN=WadaK:MAILTO:oxocreative@gmail.com
DTSTART:20230607T161500
DTEND:20230607T183000
URL;VALUE=URI:http://ris-ken50.net
DESCRIPTION:品川16:15集合　16:30-18:30稽古
CATEGORIES:現役
END:VEVENT
BEGIN:VEVENT
UID:5759-2464
LOCATION:     
SUMMARY:off
DTSTAMP:20230608T000000
ORGANIZER;CN=WadaK:MAILTO:oxocreative@gmail.com
DTSTART:20230608T000000
DTEND:20230608T000000
URL;VALUE=URI:http://ris-ken50.net
DESCRIPTION:
CATEGORIES:現役
END:VEVENT
BEGIN:VEVENT
UID:5767-2472
LOCATION:     
SUMMARY:通常稽古
DTSTAMP:20230609T180000
ORGANIZER;CN=WadaK:MAILTO:oxocreative@gmail.com
DTSTART:20230609T180000
DTEND:20230609T203000
URL;VALUE=URI:http://ris-ken50.net
DESCRIPTION:品川18:00集合　18:30-20:30稽古
CATEGORIES:現役
END:VEVENT
BEGIN:VEVENT
UID:5786-2491
LOCATION:     
SUMMARY:強化稽古+6月期草稽古会
DTSTAMP:20230610T093000
ORGANIZER;CN=WadaK:MAILTO:oxocreative@gmail.com
DTSTART:20230610T093000
DTEND:20230610T153000
URL;VALUE=URI:http://ris-ken50.net
DESCRIPTION:品川稽古①：09:30-12:00稽古②：13:30-15:30(6月期草稽古会)
CATEGORIES:現役
END:VEVENT
BEGIN:VEVENT
UID:5787-2492
LOCATION:     
SUMMARY:通常稽古
DTSTAMP:20230611T100000
ORGANIZER;CN=WadaK:MAILTO:oxocreative@gmail.com
DTSTART:20230611T100000
DTEND:20230611T160000
URL;VALUE=URI:http://ris-ken50.net
DESCRIPTION:品川女子：10:00集合　10:30-13:00稽古男子：13:00集合　13:30-16:00稽古
CATEGORIES:現役
END:VEVENT
BEGIN:VEVENT
UID:5780-2485
LOCATION:     
SUMMARY:通常稽古
DTSTAMP:20230612T100000
ORGANIZER;CN=WadaK:MAILTO:oxocreative@gmail.com
DTSTART:20230612T100000
DTEND:20230612T200000
URL;VALUE=URI:http://ris-ken50.net
DESCRIPTION:品川男子①：10:00集合　10:30-12:00稽古女子②：12:50集合　13:00-14:00稽古男子③：18:00集合　18:30-20:00稽古
CATEGORIES:現役
END:VEVENT
BEGIN:VEVENT
UID:5768-2473
LOCATION:     
SUMMARY:通常稽古
DTSTAMP:20230613T180000
ORGANIZER;CN=WadaK:MAILTO:oxocreative@gmail.com
DTSTART:20230613T180000
DTEND:20230613T203000
URL;VALUE=URI:http://ris-ken50.net
DESCRIPTION:品川18:00集合　18:30-20:30稽古
CATEGORIES:現役
END:VEVENT
BEGIN:VEVENT
UID:5775-2480
LOCATION:     
SUMMARY:通常稽古
DTSTAMP:20230614T161500
ORGANIZER;CN=WadaK:MAILTO:oxocreative@gmail.com
DTSTART:20230614T161500
DTEND:20230614T183000
URL;VALUE=URI:http://ris-ken50.net
DESCRIPTION:品川16:15集合　16:30-18:30稽古
CATEGORIES:現役
END:VEVENT
BEGIN:VEVENT
UID:5760-2465
LOCATION:     
SUMMARY:off
DTSTAMP:20230615T000000
ORGANIZER;CN=WadaK:MAILTO:oxocreative@gmail.com
DTSTART:20230615T000000
DTEND:20230615T000000
URL;VALUE=URI:http://ris-ken50.net
DESCRIPTION:
CATEGORIES:現役
END:VEVENT
BEGIN:VEVENT
UID:5807-2512
LOCATION:     
SUMMARY:事前交流：北秋田市・秋田市
DTSTAMP:20230616T000000
ORGANIZER;CN=WadaK:MAILTO:oxocreative@gmail.com
DTSTART:20230616T000000
DTEND:20230618T000000
URL;VALUE=URI:http://ris-ken50.net
DESCRIPTION:
CATEGORIES:現役
END:VEVENT
BEGIN:VEVENT
UID:5769-2474
LOCATION:     
SUMMARY:通常稽古
DTSTAMP:20230616T180000
ORGANIZER;CN=WadaK:MAILTO:oxocreative@gmail.com
DTSTART:20230616T180000
DTEND:20230616T203000
URL;VALUE=URI:http://ris-ken50.net
DESCRIPTION:品川18:00集合　18:30-20:30稽古
CATEGORIES:現役
END:VEVENT
BEGIN:VEVENT
UID:5776-2481
LOCATION:     
SUMMARY:通常稽古
DTSTAMP:20230617T161500
ORGANIZER;CN=WadaK:MAILTO:oxocreative@gmail.com
DTSTART:20230617T161500
DTEND:20230617T183000
URL;VALUE=URI:http://ris-ken50.net
DESCRIPTION:品川16:15集合　16:30-18:30稽古
CATEGORIES:現役
END:VEVENT
BEGIN:VEVENT
UID:5761-2466
LOCATION:     
SUMMARY:off
DTSTAMP:20230618T000000
ORGANIZER;CN=WadaK:MAILTO:oxocreative@gmail.com
DTSTART:20230618T000000
DTEND:20230618T000000
URL;VALUE=URI:http://ris-ken50.net
DESCRIPTION:
CATEGORIES:現役
END:VEVENT
BEGIN:VEVENT
UID:5781-2486
LOCATION:     
SUMMARY:通常稽古
DTSTAMP:20230619T100000
ORGANIZER;CN=WadaK:MAILTO:oxocreative@gmail.com
DTSTART:20230619T100000
DTEND:20230619T200000
URL;VALUE=URI:http://ris-ken50.net
DESCRIPTION:品川男子①：10:00集合　10:30-12:00稽古女子②：12:50集合　13:00-14:00稽古男子③：18:00集合　18:30-20:00稽古
CATEGORIES:現役
END:VEVENT
BEGIN:VEVENT
UID:5770-2475
LOCATION:     
SUMMARY:通常稽古
DTSTAMP:20230620T180000
ORGANIZER;CN=WadaK:MAILTO:oxocreative@gmail.com
DTSTART:20230620T180000
DTEND:20230620T203000
URL;VALUE=URI:http://ris-ken50.net
DESCRIPTION:品川18:00集合　18:30-20:30稽古
CATEGORIES:現役
END:VEVENT
BEGIN:VEVENT
UID:5777-2482
LOCATION:     
SUMMARY:通常稽古
DTSTAMP:20230621T161500
ORGANIZER;CN=WadaK:MAILTO:oxocreative@gmail.com
DTSTART:20230621T161500
DTEND:20230621T183000
URL;VALUE=URI:http://ris-ken50.net
DESCRIPTION:品川16:15集合　16:30-18:30稽古
CATEGORIES:現役
END:VEVENT
BEGIN:VEVENT
UID:5762-2467
LOCATION:     
SUMMARY:off
DTSTAMP:20230622T000000
ORGANIZER;CN=WadaK:MAILTO:oxocreative@gmail.com
DTSTART:20230622T000000
DTEND:20230622T000000
URL;VALUE=URI:http://ris-ken50.net
DESCRIPTION:
CATEGORIES:現役
END:VEVENT
BEGIN:VEVENT
UID:5771-2476
LOCATION:     
SUMMARY:通常稽古
DTSTAMP:20230623T180000
ORGANIZER;CN=WadaK:MAILTO:oxocreative@gmail.com
DTSTART:20230623T180000
DTEND:20230623T203000
URL;VALUE=URI:http://ris-ken50.net
DESCRIPTION:品川18:00集合　18:30-20:30稽古
CATEGORIES:現役
END:VEVENT
BEGIN:VEVENT
UID:5784-2489
LOCATION:     
SUMMARY:通常稽古
DTSTAMP:20230624T100000
ORGANIZER;CN=WadaK:MAILTO:oxocreative@gmail.com
DTSTART:20230624T100000
DTEND:20230624T130000
URL;VALUE=URI:http://ris-ken50.net
DESCRIPTION:品川10:30集合　11:00-13:00稽古
CATEGORIES:現役
END:VEVENT
BEGIN:VEVENT
UID:5763-2468
LOCATION:     
SUMMARY:off
DTSTAMP:20230625T000000
ORGANIZER;CN=WadaK:MAILTO:oxocreative@gmail.com
DTSTART:20230625T000000
DTEND:20230625T000000
URL;VALUE=URI:http://ris-ken50.net
DESCRIPTION:
CATEGORIES:現役
END:VEVENT
BEGIN:VEVENT
UID:5782-2487
LOCATION:     
SUMMARY:通常稽古
DTSTAMP:20230626T100000
ORGANIZER;CN=WadaK:MAILTO:oxocreative@gmail.com
DTSTART:20230626T100000
DTEND:20230626T200000
URL;VALUE=URI:http://ris-ken50.net
DESCRIPTION:品川男子①：10:00集合　10:30-12:00稽古女子②：12:50集合　13:00-14:00稽古男子③：18:00集合　18:30-20:00稽古
CATEGORIES:現役
END:VEVENT
BEGIN:VEVENT
UID:5772-2477
LOCATION:     
SUMMARY:通常稽古
DTSTAMP:20230627T180000
ORGANIZER;CN=WadaK:MAILTO:oxocreative@gmail.com
DTSTART:20230627T180000
DTEND:20230627T203000
URL;VALUE=URI:http://ris-ken50.net
DESCRIPTION:品川18:00集合　18:30-20:30稽古
CATEGORIES:現役
END:VEVENT
BEGIN:VEVENT
UID:5778-2483
LOCATION:     
SUMMARY:通常稽古
DTSTAMP:20230628T161500
ORGANIZER;CN=WadaK:MAILTO:oxocreative@gmail.com
DTSTART:20230628T161500
DTEND:20230628T183000
URL;VALUE=URI:http://ris-ken50.net
DESCRIPTION:品川16:15集合　16:30-18:30稽古
CATEGORIES:現役
END:VEVENT
BEGIN:VEVENT
UID:5764-2469
LOCATION:     
SUMMARY:off
DTSTAMP:20230629T000000
ORGANIZER;CN=WadaK:MAILTO:oxocreative@gmail.com
DTSTART:20230629T000000
DTEND:20230629T000000
URL;VALUE=URI:http://ris-ken50.net
DESCRIPTION:
CATEGORIES:現役
END:VEVENT
BEGIN:VEVENT
UID:5773-2478
LOCATION:     
SUMMARY:通常稽古
DTSTAMP:20230630T180000
ORGANIZER;CN=WadaK:MAILTO:oxocreative@gmail.com
DTSTART:20230630T180000
DTEND:20230630T203000
URL;VALUE=URI:http://ris-ken50.net
DESCRIPTION:品川18:00集合　18:30-20:30稽古
CATEGORIES:現役
END:VEVENT
END:VCALENDAR