BEGIN:VCALENDAR
VERSION:2.0
METHOD:PUBLISH
PRODID:-//Accessible Web Design//My Calendar//http://www.mywpcal.com//v2.2.13//EN
BEGIN:VEVENT
UID:5726-2431
LOCATION:     
SUMMARY:通常稽古
DTSTAMP:20230501T100000
ORGANIZER;CN=WadaK:MAILTO:oxocreative@gmail.com
DTSTART:20230501T100000
DTEND:20230501T200000
URL;VALUE=URI:http://ris-ken50.net
DESCRIPTION:品川男子①：10:00集合、10:30-12:00稽古女子②：12:50集合、13:00-14:00稽古男子③：18:00集合、18:30-20:00稽古
CATEGORIES:現役
END:VEVENT
BEGIN:VEVENT
UID:5735-2440
LOCATION:     
SUMMARY:off
DTSTAMP:20230502T000000
ORGANIZER;CN=WadaK:MAILTO:oxocreative@gmail.com
DTSTART:20230502T000000
DTEND:20230502T000000
URL;VALUE=URI:http://ris-ken50.net
DESCRIPTION:
CATEGORIES:現役
END:VEVENT
BEGIN:VEVENT
UID:5731-2436
LOCATION:     
SUMMARY:通常稽古
DTSTAMP:20230503T093000
ORGANIZER;CN=WadaK:MAILTO:oxocreative@gmail.com
DTSTART:20230503T093000
DTEND:20230503T130000
URL;VALUE=URI:http://ris-ken50.net
DESCRIPTION:熊谷9:30集合、10:00-13:00稽古
CATEGORIES:現役
END:VEVENT
BEGIN:VEVENT
UID:5732-2437
LOCATION:     
SUMMARY:練習試合
DTSTAMP:20230504T094500
ORGANIZER;CN=WadaK:MAILTO:oxocreative@gmail.com
DTSTART:20230504T094500
DTEND:20230504T130000
URL;VALUE=URI:http://ris-ken50.net
DESCRIPTION:品川9:45集合、10:00-13:00
CATEGORIES:現役
END:VEVENT
BEGIN:VEVENT
UID:5733-2438
LOCATION:     
SUMMARY:練習試合
DTSTAMP:20230505T081500
ORGANIZER;CN=WadaK:MAILTO:oxocreative@gmail.com
DTSTART:20230505T081500
DTEND:20230505T130000
URL;VALUE=URI:http://ris-ken50.net
DESCRIPTION:男子：学外　08:15集合、09:00-13:00女子：品川　10:00集合、10:30-12:30
CATEGORIES:現役
END:VEVENT
BEGIN:VEVENT
UID:5734-2439
LOCATION:     
SUMMARY:練習試合+通常稽古
DTSTAMP:20230506T090000
ORGANIZER;CN=WadaK:MAILTO:oxocreative@gmail.com
DTSTART:20230506T090000
DTEND:20230506T130000
URL;VALUE=URI:http://ris-ken50.net
DESCRIPTION:男女：学外　9:00集合、10:00-13:00男子メンバー外：10:30集合、11:00-13:00稽古
CATEGORIES:現役
END:VEVENT
BEGIN:VEVENT
UID:5756-2461
LOCATION:     
SUMMARY:off
DTSTAMP:20230507T000000
ORGANIZER;CN=WadaK:MAILTO:oxocreative@gmail.com
DTSTART:20230507T000000
DTEND:20230507T000000
URL;VALUE=URI:http://ris-ken50.net
DESCRIPTION:
CATEGORIES:現役
END:VEVENT
BEGIN:VEVENT
UID:5727-2432
LOCATION:     
SUMMARY:通常稽古
DTSTAMP:20230508T100000
ORGANIZER;CN=WadaK:MAILTO:oxocreative@gmail.com
DTSTART:20230508T100000
DTEND:20230508T200000
URL;VALUE=URI:http://ris-ken50.net
DESCRIPTION:品川男子①：10:00集合、10:30-12:00稽古女子②：12:50集合、13:00-14:00稽古男子③：18:00集合、18:30-20:00稽古
CATEGORIES:現役
END:VEVENT
BEGIN:VEVENT
UID:5740-2445
LOCATION:     
SUMMARY:通常稽古
DTSTAMP:20230509T180000
ORGANIZER;CN=WadaK:MAILTO:oxocreative@gmail.com
DTSTART:20230509T180000
DTEND:20230509T203000
URL;VALUE=URI:http://ris-ken50.net
DESCRIPTION:品川18:00集合、18:30-20:30稽古
CATEGORIES:現役
END:VEVENT
BEGIN:VEVENT
UID:5747-2452
LOCATION:     
SUMMARY:通常稽古
DTSTAMP:20230510T161500
ORGANIZER;CN=WadaK:MAILTO:oxocreative@gmail.com
DTSTART:20230510T161500
DTEND:20230510T183000
URL;VALUE=URI:http://ris-ken50.net
DESCRIPTION:品川16:15集合、16:30-18:30稽古
CATEGORIES:現役
END:VEVENT
BEGIN:VEVENT
UID:5736-2441
LOCATION:     
SUMMARY:off
DTSTAMP:20230511T000000
ORGANIZER;CN=WadaK:MAILTO:oxocreative@gmail.com
DTSTART:20230511T000000
DTEND:20230511T000000
URL;VALUE=URI:http://ris-ken50.net
DESCRIPTION:
CATEGORIES:現役
END:VEVENT
BEGIN:VEVENT
UID:5741-2446
LOCATION:     
SUMMARY:通常稽古
DTSTAMP:20230512T180000
ORGANIZER;CN=WadaK:MAILTO:oxocreative@gmail.com
DTSTART:20230512T180000
DTEND:20230512T203000
URL;VALUE=URI:http://ris-ken50.net
DESCRIPTION:品川18:00集合、18:30-20:30稽古
CATEGORIES:現役
END:VEVENT
BEGIN:VEVENT
UID:5751-2456
LOCATION:     
SUMMARY:男子：調整、女子：off
DTSTAMP:20230513T090000
ORGANIZER;CN=WadaK:MAILTO:oxocreative@gmail.com
DTSTART:20230513T090000
DTEND:20230513T110000
URL;VALUE=URI:http://ris-ken50.net
DESCRIPTION:品川9:00集合、9:30-11:00調整
CATEGORIES:現役
END:VEVENT
BEGIN:VEVENT
UID:5752-2457
LOCATION:     
SUMMARY:第69回関東学生剣道選手権大会+女子通常稽古
DTSTAMP:20230514T090000
ORGANIZER;CN=WadaK:MAILTO:oxocreative@gmail.com
DTSTART:20230514T090000
DTEND:20230514T180000
URL;VALUE=URI:http://ris-ken50.net
DESCRIPTION:日本武道館　9:00開会女子：品川　10:30集合、11:00-13:00稽古
CATEGORIES:現役
END:VEVENT
BEGIN:VEVENT
UID:5729-2434
LOCATION:     
SUMMARY:通常稽古
DTSTAMP:20230515T125000
ORGANIZER;CN=WadaK:MAILTO:oxocreative@gmail.com
DTSTART:20230515T125000
DTEND:20230515T140000
URL;VALUE=URI:http://ris-ken50.net
DESCRIPTION:品川男子：off女子：12:50集合、13:00-14:00稽古
CATEGORIES:現役
END:VEVENT
BEGIN:VEVENT
UID:5742-2447
LOCATION:     
SUMMARY:通常稽古
DTSTAMP:20230516T180000
ORGANIZER;CN=WadaK:MAILTO:oxocreative@gmail.com
DTSTART:20230516T180000
DTEND:20230516T203000
URL;VALUE=URI:http://ris-ken50.net
DESCRIPTION:品川18:00集合、18:30-20:30稽古
CATEGORIES:現役
END:VEVENT
BEGIN:VEVENT
UID:5748-2453
LOCATION:     
SUMMARY:通常稽古
DTSTAMP:20230517T161500
ORGANIZER;CN=WadaK:MAILTO:oxocreative@gmail.com
DTSTART:20230517T161500
DTEND:20230517T183000
URL;VALUE=URI:http://ris-ken50.net
DESCRIPTION:品川16:15集合、16:30-18:30稽古
CATEGORIES:現役
END:VEVENT
BEGIN:VEVENT
UID:5737-2442
LOCATION:     
SUMMARY:off
DTSTAMP:20230518T000000
ORGANIZER;CN=WadaK:MAILTO:oxocreative@gmail.com
DTSTART:20230518T000000
DTEND:20230518T000000
URL;VALUE=URI:http://ris-ken50.net
DESCRIPTION:
CATEGORIES:現役
END:VEVENT
BEGIN:VEVENT
UID:5743-2448
LOCATION:     
SUMMARY:通常稽古
DTSTAMP:20230519T180000
ORGANIZER;CN=WadaK:MAILTO:oxocreative@gmail.com
DTSTART:20230519T180000
DTEND:20230519T203000
URL;VALUE=URI:http://ris-ken50.net
DESCRIPTION:品川18:00集合、18:30-20:30稽古
CATEGORIES:現役
END:VEVENT
BEGIN:VEVENT
UID:5753-2458
LOCATION:     
SUMMARY:女子：調整、男子：off
DTSTAMP:20230520T090000
ORGANIZER;CN=WadaK:MAILTO:oxocreative@gmail.com
DTSTART:20230520T090000
DTEND:20230520T110000
URL;VALUE=URI:http://ris-ken50.net
DESCRIPTION:品川9:00集合、9:30-11:00調整
CATEGORIES:現役
END:VEVENT
BEGIN:VEVENT
UID:5754-2459
LOCATION:     
SUMMARY:第55回関東女子学生剣道選手権大会+男子通常稽古
DTSTAMP:20230521T090000
ORGANIZER;CN=WadaK:MAILTO:oxocreative@gmail.com
DTSTART:20230521T090000
DTEND:20230521T180000
URL;VALUE=URI:http://ris-ken50.net
DESCRIPTION:墨田区総合体育館　9:00開会男子：10:30集合、11:00-13:00稽古
CATEGORIES:現役
END:VEVENT
BEGIN:VEVENT
UID:5730-2435
LOCATION:     
SUMMARY:通常稽古
DTSTAMP:20230522T000000
ORGANIZER;CN=WadaK:MAILTO:oxocreative@gmail.com
DTSTART:20230522T000000
DTEND:20230522T000000
URL;VALUE=URI:http://ris-ken50.net
DESCRIPTION:品川男子①：10:00集合、10:30-12:00稽古男子②：18:00集合、18:30-20:00稽古女　子：off
CATEGORIES:現役
END:VEVENT
BEGIN:VEVENT
UID:5744-2449
LOCATION:     
SUMMARY:通常稽古
DTSTAMP:20230523T180000
ORGANIZER;CN=WadaK:MAILTO:oxocreative@gmail.com
DTSTART:20230523T180000
DTEND:20230523T203000
URL;VALUE=URI:http://ris-ken50.net
DESCRIPTION:品川18:00集合、18:30-20:30稽古
CATEGORIES:現役
END:VEVENT
BEGIN:VEVENT
UID:5749-2454
LOCATION:     
SUMMARY:通常稽古
DTSTAMP:20230524T161500
ORGANIZER;CN=WadaK:MAILTO:oxocreative@gmail.com
DTSTART:20230524T161500
DTEND:20230524T183000
URL;VALUE=URI:http://ris-ken50.net
DESCRIPTION:品川16:15集合、16:30-18:30稽古
CATEGORIES:現役
END:VEVENT
BEGIN:VEVENT
UID:5738-2443
LOCATION:     
SUMMARY:off
DTSTAMP:20230525T000000
ORGANIZER;CN=WadaK:MAILTO:oxocreative@gmail.com
DTSTART:20230525T000000
DTEND:20230525T000000
URL;VALUE=URI:http://ris-ken50.net
DESCRIPTION:
CATEGORIES:現役
END:VEVENT
BEGIN:VEVENT
UID:5745-2450
LOCATION:     
SUMMARY:通常稽古
DTSTAMP:20230526T180000
ORGANIZER;CN=WadaK:MAILTO:oxocreative@gmail.com
DTSTART:20230526T180000
DTEND:20230526T203000
URL;VALUE=URI:http://ris-ken50.net
DESCRIPTION:品川18:00集合、18:30-20:30稽古
CATEGORIES:現役
END:VEVENT
BEGIN:VEVENT
UID:5755-2460
LOCATION:     
SUMMARY:5月期草稽古会+保護者会+新入生歓迎会
DTSTAMP:20230527T103000
ORGANIZER;CN=WadaK:MAILTO:oxocreative@gmail.com
DTSTART:20230527T103000
DTEND:20230527T180000
URL;VALUE=URI:http://ris-ken50.net
DESCRIPTION:5月期草稽古会：10:30集合、11:00-13:30保護者会：14:30-15:30新入生歓迎会：16:00-18:00
CATEGORIES:現役
END:VEVENT
BEGIN:VEVENT
UID:5739-2444
LOCATION:     
SUMMARY:off
DTSTAMP:20230528T000000
ORGANIZER;CN=WadaK:MAILTO:oxocreative@gmail.com
DTSTART:20230528T000000
DTEND:20230528T000000
URL;VALUE=URI:http://ris-ken50.net
DESCRIPTION:
CATEGORIES:現役
END:VEVENT
BEGIN:VEVENT
UID:5728-2433
LOCATION:     
SUMMARY:通常稽古
DTSTAMP:20230529T100000
ORGANIZER;CN=WadaK:MAILTO:oxocreative@gmail.com
DTSTART:20230529T100000
DTEND:20230529T200000
URL;VALUE=URI:http://ris-ken50.net
DESCRIPTION:品川男子①：10:00集合、10:30-12:00稽古女子②：12:50集合、13:00-14:00稽古男子③：18:00集合、18:30-20:00稽古
CATEGORIES:現役
END:VEVENT
BEGIN:VEVENT
UID:5757-2462
LOCATION:     
SUMMARY:通常稽古
DTSTAMP:20230530T180000
ORGANIZER;CN=WadaK:MAILTO:oxocreative@gmail.com
DTSTART:20230530T180000
DTEND:20230530T203000
URL;VALUE=URI:http://ris-ken50.net
DESCRIPTION:品川18:00集合、18:30-20:30稽古
CATEGORIES:現役
END:VEVENT
BEGIN:VEVENT
UID:5746-2451
LOCATION:     
SUMMARY:通常稽古
DTSTAMP:20230531T180000
ORGANIZER;CN=WadaK:MAILTO:oxocreative@gmail.com
DTSTART:20230531T180000
DTEND:20230531T203000
URL;VALUE=URI:http://ris-ken50.net
DESCRIPTION:品川18:00集合、18:30-20:30稽古
CATEGORIES:現役
END:VEVENT
END:VCALENDAR