BEGIN:VCALENDAR
VERSION:2.0
METHOD:PUBLISH
PRODID:-//Accessible Web Design//My Calendar//http://www.mywpcal.com//v2.2.13//EN
BEGIN:VEVENT
UID:6516-3202
LOCATION:     
SUMMARY:男子：練習試合・女子：都道府県対抗埼玉予選
DTSTAMP:20260301T000000
ORGANIZER;CN=WadaK:MAILTO:oxocreative@gmail.com
DTSTART:20260301T000000
DTEND:20260301T000000
URL;VALUE=URI:http://ris-ken50.net
DESCRIPTION:男子：調整中女子：さいたま市大宮武道館
CATEGORIES:現役
END:VEVENT
BEGIN:VEVENT
UID:6517-3203
LOCATION:     
SUMMARY:通常稽古
DTSTAMP:20260302T100000
ORGANIZER;CN=WadaK:MAILTO:oxocreative@gmail.com
DTSTART:20260302T100000
DTEND:20260302T133000
URL;VALUE=URI:http://ris-ken50.net
DESCRIPTION:品川10:00集合　10:30-13:30稽古
CATEGORIES:現役
END:VEVENT
BEGIN:VEVENT
UID:6532-3218
LOCATION:     
SUMMARY:off
DTSTAMP:20260303T000000
ORGANIZER;CN=WadaK:MAILTO:oxocreative@gmail.com
DTSTART:20260303T000000
DTEND:20260303T000000
URL;VALUE=URI:http://ris-ken50.net
DESCRIPTION:
CATEGORIES:現役
END:VEVENT
BEGIN:VEVENT
UID:6533-3219
LOCATION:     
SUMMARY:off
DTSTAMP:20260304T000000
ORGANIZER;CN=WadaK:MAILTO:oxocreative@gmail.com
DTSTART:20260304T000000
DTEND:20260304T000000
URL;VALUE=URI:http://ris-ken50.net
DESCRIPTION:
CATEGORIES:現役
END:VEVENT
BEGIN:VEVENT
UID:6518-3204
LOCATION:     
SUMMARY:通常稽古
DTSTAMP:20260305T100000
ORGANIZER;CN=WadaK:MAILTO:oxocreative@gmail.com
DTSTART:20260305T100000
DTEND:20260305T133000
URL;VALUE=URI:http://ris-ken50.net
DESCRIPTION:品川10:00集合　10:30-13:30稽古
CATEGORIES:現役
END:VEVENT
BEGIN:VEVENT
UID:6519-3205
LOCATION:     
SUMMARY:通常稽古
DTSTAMP:20260306T100000
ORGANIZER;CN=WadaK:MAILTO:oxocreative@gmail.com
DTSTART:20260306T100000
DTEND:20260306T133000
URL;VALUE=URI:http://ris-ken50.net
DESCRIPTION:品川10:00集合　10:30-13:30稽古
CATEGORIES:現役
END:VEVENT
BEGIN:VEVENT
UID:6539-3225
LOCATION:     
SUMMARY:通常稽古
DTSTAMP:20260307T100000
ORGANIZER;CN=WadaK:MAILTO:oxocreative@gmail.com
DTSTART:20260307T100000
DTEND:20260307T133000
URL;VALUE=URI:http://ris-ken50.net
DESCRIPTION:品川10:00集合　10:30-13:30稽古
CATEGORIES:現役
END:VEVENT
BEGIN:VEVENT
UID:6540-3226
LOCATION:     
SUMMARY:髙橋先生感謝の集い+新顧問就任式
DTSTAMP:20260307T170000
ORGANIZER;CN=WadaK:MAILTO:oxocreative@gmail.com
DTSTART:20260307T170000
DTEND:20260307T190000
URL;VALUE=URI:http://ris-ken50.net
DESCRIPTION:品川プリンスホテル17:00-19:00
CATEGORIES:現役
END:VEVENT
BEGIN:VEVENT
UID:6534-3220
LOCATION:     
SUMMARY:off
DTSTAMP:20260308T000000
ORGANIZER;CN=WadaK:MAILTO:oxocreative@gmail.com
DTSTART:20260308T000000
DTEND:20260308T000000
URL;VALUE=URI:http://ris-ken50.net
DESCRIPTION:
CATEGORIES:現役
END:VEVENT
BEGIN:VEVENT
UID:6535-3221
LOCATION:     
SUMMARY:off
DTSTAMP:20260309T000000
ORGANIZER;CN=WadaK:MAILTO:oxocreative@gmail.com
DTSTART:20260309T000000
DTEND:20260309T000000
URL;VALUE=URI:http://ris-ken50.net
DESCRIPTION:
CATEGORIES:現役
END:VEVENT
BEGIN:VEVENT
UID:6520-3206
LOCATION:     
SUMMARY:通常稽古
DTSTAMP:20260310T100000
ORGANIZER;CN=WadaK:MAILTO:oxocreative@gmail.com
DTSTART:20260310T100000
DTEND:20260310T133000
URL;VALUE=URI:http://ris-ken50.net
DESCRIPTION:品川10:00集合　10:30-13:30稽古
CATEGORIES:現役
END:VEVENT
BEGIN:VEVENT
UID:6521-3207
LOCATION:     
SUMMARY:通常稽古
DTSTAMP:20260311T100000
ORGANIZER;CN=WadaK:MAILTO:oxocreative@gmail.com
DTSTART:20260311T100000
DTEND:20260311T133000
URL;VALUE=URI:http://ris-ken50.net
DESCRIPTION:品川10:00集合　10:30-13:30稽古
CATEGORIES:現役
END:VEVENT
BEGIN:VEVENT
UID:6522-3208
LOCATION:     
SUMMARY:通常稽古
DTSTAMP:20260312T100000
ORGANIZER;CN=WadaK:MAILTO:oxocreative@gmail.com
DTSTART:20260312T100000
DTEND:20260312T133000
URL;VALUE=URI:http://ris-ken50.net
DESCRIPTION:品川10:00集合　10:30-13:30稽古
CATEGORIES:現役
END:VEVENT
BEGIN:VEVENT
UID:6523-3209
LOCATION:     
SUMMARY:通常稽古
DTSTAMP:20260313T100000
ORGANIZER;CN=WadaK:MAILTO:oxocreative@gmail.com
DTSTART:20260313T100000
DTEND:20260313T133000
URL;VALUE=URI:http://ris-ken50.net
DESCRIPTION:品川10:00集合　10:30-13:30稽古
CATEGORIES:現役
END:VEVENT
BEGIN:VEVENT
UID:6541-3227
LOCATION:     
SUMMARY:選手選考会+稽古
DTSTAMP:20260314T000000
ORGANIZER;CN=WadaK:MAILTO:oxocreative@gmail.com
DTSTART:20260314T000000
DTEND:20260315T000000
URL;VALUE=URI:http://ris-ken50.net
DESCRIPTION:品川10:00集合　10:30-16:00選手選考+稽古
CATEGORIES:現役
END:VEVENT
BEGIN:VEVENT
UID:6536-3222
LOCATION:     
SUMMARY:off
DTSTAMP:20260316T000000
ORGANIZER;CN=WadaK:MAILTO:oxocreative@gmail.com
DTSTART:20260316T000000
DTEND:20260316T000000
URL;VALUE=URI:http://ris-ken50.net
DESCRIPTION:
CATEGORIES:現役
END:VEVENT
BEGIN:VEVENT
UID:6524-3210
LOCATION:     
SUMMARY:通常稽古
DTSTAMP:20260317T100000
ORGANIZER;CN=WadaK:MAILTO:oxocreative@gmail.com
DTSTART:20260317T100000
DTEND:20260317T133000
URL;VALUE=URI:http://ris-ken50.net
DESCRIPTION:品川10:00集合　10:30-13:30稽古
CATEGORIES:現役
END:VEVENT
BEGIN:VEVENT
UID:6525-3211
LOCATION:     
SUMMARY:通常稽古
DTSTAMP:20260318T100000
ORGANIZER;CN=WadaK:MAILTO:oxocreative@gmail.com
DTSTART:20260318T100000
DTEND:20260318T133000
URL;VALUE=URI:http://ris-ken50.net
DESCRIPTION:品川10:00集合　10:30-13:30稽古
CATEGORIES:現役
END:VEVENT
BEGIN:VEVENT
UID:6526-3212
LOCATION:     
SUMMARY:通常稽古
DTSTAMP:20260319T100000
ORGANIZER;CN=WadaK:MAILTO:oxocreative@gmail.com
DTSTART:20260319T100000
DTEND:20260319T133000
URL;VALUE=URI:http://ris-ken50.net
DESCRIPTION:品川10:00集合　10:30-13:30稽古
CATEGORIES:現役
END:VEVENT
BEGIN:VEVENT
UID:6542-3228
LOCATION:     
SUMMARY:春期強化合宿
DTSTAMP:20260320T000000
ORGANIZER;CN=WadaK:MAILTO:oxocreative@gmail.com
DTSTART:20260320T000000
DTEND:20260322T000000
URL;VALUE=URI:http://ris-ken50.net
DESCRIPTION:熊谷20(金) 9号館 11:00-13:00、14:30-17:0021(土) SC　   10:00-12:30、14:00-17:0022(日) SC       　10:00-12:00
CATEGORIES:現役
END:VEVENT
BEGIN:VEVENT
UID:6537-3223
LOCATION:     
SUMMARY:off
DTSTAMP:20260323T000000
ORGANIZER;CN=WadaK:MAILTO:oxocreative@gmail.com
DTSTART:20260323T000000
DTEND:20260323T000000
URL;VALUE=URI:http://ris-ken50.net
DESCRIPTION:
CATEGORIES:現役
END:VEVENT
BEGIN:VEVENT
UID:6527-3213
LOCATION:     
SUMMARY:通常稽古
DTSTAMP:20260324T100000
ORGANIZER;CN=WadaK:MAILTO:oxocreative@gmail.com
DTSTART:20260324T100000
DTEND:20260324T133000
URL;VALUE=URI:http://ris-ken50.net
DESCRIPTION:品川10:00集合　10:30-13:30稽古
CATEGORIES:現役
END:VEVENT
BEGIN:VEVENT
UID:6528-3214
LOCATION:     
SUMMARY:通常稽古
DTSTAMP:20260325T100000
ORGANIZER;CN=WadaK:MAILTO:oxocreative@gmail.com
DTSTART:20260325T100000
DTEND:20260325T133000
URL;VALUE=URI:http://ris-ken50.net
DESCRIPTION:品川10:00集合　10:30-13:30稽古
CATEGORIES:現役
END:VEVENT
BEGIN:VEVENT
UID:6529-3215
LOCATION:     
SUMMARY:通常稽古
DTSTAMP:20260326T100000
ORGANIZER;CN=WadaK:MAILTO:oxocreative@gmail.com
DTSTART:20260326T100000
DTEND:20260326T133000
URL;VALUE=URI:http://ris-ken50.net
DESCRIPTION:品川10:00集合　10:30-13:30稽古
CATEGORIES:現役
END:VEVENT
BEGIN:VEVENT
UID:6530-3216
LOCATION:     
SUMMARY:通常稽古
DTSTAMP:20260327T100000
ORGANIZER;CN=WadaK:MAILTO:oxocreative@gmail.com
DTSTART:20260327T100000
DTEND:20260327T133000
URL;VALUE=URI:http://ris-ken50.net
DESCRIPTION:品川10:00集合　10:30-13:30稽古
CATEGORIES:現役
END:VEVENT
BEGIN:VEVENT
UID:6543-3229
LOCATION:     
SUMMARY:練習試合
DTSTAMP:20260328T000000
ORGANIZER;CN=WadaK:MAILTO:oxocreative@gmail.com
DTSTART:20260328T000000
DTEND:20260328T000000
URL;VALUE=URI:http://ris-ken50.net
DESCRIPTION:調整中
CATEGORIES:現役
END:VEVENT
BEGIN:VEVENT
UID:6544-3230
LOCATION:     
SUMMARY:練習試合
DTSTAMP:20260329T000000
ORGANIZER;CN=WadaK:MAILTO:oxocreative@gmail.com
DTSTART:20260329T000000
DTEND:20260329T000000
URL;VALUE=URI:http://ris-ken50.net
DESCRIPTION:調整中
CATEGORIES:現役
END:VEVENT
BEGIN:VEVENT
UID:6538-3224
LOCATION:     
SUMMARY:off
DTSTAMP:20260330T000000
ORGANIZER;CN=WadaK:MAILTO:oxocreative@gmail.com
DTSTART:20260330T000000
DTEND:20260330T000000
URL;VALUE=URI:http://ris-ken50.net
DESCRIPTION:
CATEGORIES:現役
END:VEVENT
BEGIN:VEVENT
UID:6531-3217
LOCATION:     
SUMMARY:通常稽古
DTSTAMP:20260331T100000
ORGANIZER;CN=WadaK:MAILTO:oxocreative@gmail.com
DTSTART:20260331T100000
DTEND:20260331T133000
URL;VALUE=URI:http://ris-ken50.net
DESCRIPTION:品川10:00集合　10:30-13:30稽古
CATEGORIES:現役
END:VEVENT
END:VCALENDAR