BEGIN:VCALENDAR
VERSION:2.0
METHOD:PUBLISH
PRODID:-//Accessible Web Design//My Calendar//http://www.mywpcal.com//v2.2.13//EN
BEGIN:VEVENT
UID:5643-2352
LOCATION:     
SUMMARY:男女：通常稽古
DTSTAMP:20230301T093000
ORGANIZER;CN=WadaK:MAILTO:oxocreative@gmail.com
DTSTART:20230301T093000
DTEND:20230303T123000
URL;VALUE=URI:http://ris-ken50.net
DESCRIPTION:熊谷9:30集合　10:00-12:30
CATEGORIES:現役
END:VEVENT
BEGIN:VEVENT
UID:5665-2371
LOCATION:     
SUMMARY:off
DTSTAMP:20230304T000000
ORGANIZER;CN=WadaK:MAILTO:oxocreative@gmail.com
DTSTART:20230304T000000
DTEND:20230304T000000
URL;VALUE=URI:http://ris-ken50.net
DESCRIPTION:
CATEGORIES:現役
END:VEVENT
BEGIN:VEVENT
UID:5666-2372
LOCATION:     
SUMMARY:off
DTSTAMP:20230305T000000
ORGANIZER;CN=WadaK:MAILTO:oxocreative@gmail.com
DTSTART:20230305T000000
DTEND:20230305T000000
URL;VALUE=URI:http://ris-ken50.net
DESCRIPTION:
CATEGORIES:現役
END:VEVENT
BEGIN:VEVENT
UID:5672-2378
LOCATION:     
SUMMARY:男女：通常稽古
DTSTAMP:20230306T100000
ORGANIZER;CN=WadaK:MAILTO:oxocreative@gmail.com
DTSTART:20230306T100000
DTEND:20230306T130000
URL;VALUE=URI:http://ris-ken50.net
DESCRIPTION:品川男女：10:00集合　10:30-13:00稽古
CATEGORIES:現役
END:VEVENT
BEGIN:VEVENT
UID:5673-2379
LOCATION:     
SUMMARY:男女：通常稽古
DTSTAMP:20230307T100000
ORGANIZER;CN=WadaK:MAILTO:oxocreative@gmail.com
DTSTART:20230307T100000
DTEND:20230307T130000
URL;VALUE=URI:http://ris-ken50.net
DESCRIPTION:品川男女：10:00集合　10:30-13:00稽古
CATEGORIES:現役
END:VEVENT
BEGIN:VEVENT
UID:5674-2380
LOCATION:     
SUMMARY:男女：通常稽古
DTSTAMP:20230308T100000
ORGANIZER;CN=WadaK:MAILTO:oxocreative@gmail.com
DTSTART:20230308T100000
DTEND:20230308T130000
URL;VALUE=URI:http://ris-ken50.net
DESCRIPTION:品川男女：10:00集合　10:30-13:00稽古
CATEGORIES:現役
END:VEVENT
BEGIN:VEVENT
UID:5667-2373
LOCATION:     
SUMMARY:off
DTSTAMP:20230309T000000
ORGANIZER;CN=WadaK:MAILTO:oxocreative@gmail.com
DTSTART:20230309T000000
DTEND:20230309T000000
URL;VALUE=URI:http://ris-ken50.net
DESCRIPTION:
CATEGORIES:現役
END:VEVENT
BEGIN:VEVENT
UID:5675-2381
LOCATION:     
SUMMARY:男女：通常稽古
DTSTAMP:20230310T100000
ORGANIZER;CN=WadaK:MAILTO:oxocreative@gmail.com
DTSTART:20230310T100000
DTEND:20230310T130000
URL;VALUE=URI:http://ris-ken50.net
DESCRIPTION:品川男女：10:00集合　10:30-13:00稽古
CATEGORIES:現役
END:VEVENT
BEGIN:VEVENT
UID:5686-2392
LOCATION:     
SUMMARY:通常稽古+東京都代表来校+卯月会
DTSTAMP:20230311T100000
ORGANIZER;CN=WadaK:MAILTO:oxocreative@gmail.com
DTSTART:20230311T100000
DTEND:20230311T170000
URL;VALUE=URI:http://ris-ken50.net
DESCRIPTION:男女：10:00集合　10:30-13:00稽古☆全国都道府県対抗剣道優勝大会東京都代表との稽古会(13:00-15:00)☆卯月会(15:00-17:00)
CATEGORIES:現役
END:VEVENT
BEGIN:VEVENT
UID:5687-2393
LOCATION:     
SUMMARY:一次選考会
DTSTAMP:20230312T123000
ORGANIZER;CN=WadaK:MAILTO:oxocreative@gmail.com
DTSTART:20230312T123000
DTEND:20230312T170000
URL;VALUE=URI:http://ris-ken50.net
DESCRIPTION:熊谷男女：12:30集合　13:00-17:00選考①
CATEGORIES:現役
END:VEVENT
BEGIN:VEVENT
UID:5676-2382
LOCATION:     
SUMMARY:男女：通常稽古
DTSTAMP:20230313T100000
ORGANIZER;CN=WadaK:MAILTO:oxocreative@gmail.com
DTSTART:20230313T100000
DTEND:20230313T130000
URL;VALUE=URI:http://ris-ken50.net
DESCRIPTION:品川男女：10:00集合　10:30-13:00稽古
CATEGORIES:現役
END:VEVENT
BEGIN:VEVENT
UID:5677-2383
LOCATION:     
SUMMARY:男女：通常稽古
DTSTAMP:20230314T100000
ORGANIZER;CN=WadaK:MAILTO:oxocreative@gmail.com
DTSTART:20230314T100000
DTEND:20230314T130000
URL;VALUE=URI:http://ris-ken50.net
DESCRIPTION:品川男女：10:00集合　10:30-13:00稽古
CATEGORIES:現役
END:VEVENT
BEGIN:VEVENT
UID:5678-2384
LOCATION:     
SUMMARY:男女：通常稽古
DTSTAMP:20230315T100000
ORGANIZER;CN=WadaK:MAILTO:oxocreative@gmail.com
DTSTART:20230315T100000
DTEND:20230315T130000
URL;VALUE=URI:http://ris-ken50.net
DESCRIPTION:品川男女：10:00集合　10:30-13:00稽古
CATEGORIES:現役
END:VEVENT
BEGIN:VEVENT
UID:5668-2374
LOCATION:     
SUMMARY:off
DTSTAMP:20230316T000000
ORGANIZER;CN=WadaK:MAILTO:oxocreative@gmail.com
DTSTART:20230316T000000
DTEND:20230316T000000
URL;VALUE=URI:http://ris-ken50.net
DESCRIPTION:
CATEGORIES:現役
END:VEVENT
BEGIN:VEVENT
UID:5688-2394
LOCATION:     
SUMMARY:春期強化合宿
DTSTAMP:20230317T093000
ORGANIZER;CN=WadaK:MAILTO:oxocreative@gmail.com
DTSTART:20230317T093000
DTEND:20230317T163000
URL;VALUE=URI:http://ris-ken50.net
DESCRIPTION:熊谷集合：9:30稽古①：10:00-12:30稽古②：14:00-17:00
CATEGORIES:現役
END:VEVENT
BEGIN:VEVENT
UID:5689-2395
LOCATION:     
SUMMARY:春期強化合宿
DTSTAMP:20230318T093000
ORGANIZER;CN=WadaK:MAILTO:oxocreative@gmail.com
DTSTART:20230318T093000
DTEND:20230318T170000
URL;VALUE=URI:http://ris-ken50.net
DESCRIPTION:熊谷稽古③：10:00-12:30稽古④：14:00-17:00（３月期3月期草稽古会）
CATEGORIES:現役
END:VEVENT
BEGIN:VEVENT
UID:5690-2396
LOCATION:     
SUMMARY:春期合宿
DTSTAMP:20230319T093000
ORGANIZER;CN=WadaK:MAILTO:oxocreative@gmail.com
DTSTART:20230319T093000
DTEND:20230319T130000
URL;VALUE=URI:http://ris-ken50.net
DESCRIPTION:熊谷稽古⑤：10:00-13:00
CATEGORIES:現役
END:VEVENT
BEGIN:VEVENT
UID:5671-2377
LOCATION:     
SUMMARY:off
DTSTAMP:20230320T000000
ORGANIZER;CN=WadaK:MAILTO:oxocreative@gmail.com
DTSTART:20230320T000000
DTEND:20230320T000000
URL;VALUE=URI:http://ris-ken50.net
DESCRIPTION:
CATEGORIES:現役
END:VEVENT
BEGIN:VEVENT
UID:5693-2399
LOCATION:     
SUMMARY:二次選考会＋第三回検討会
DTSTAMP:20230321T100000
ORGANIZER;CN=WadaK:MAILTO:oxocreative@gmail.com
DTSTART:20230321T100000
DTEND:20230321T170000
URL;VALUE=URI:http://ris-ken50.net
DESCRIPTION:品川男子：10:00集合　10:30-13:30選考②女子：13:00集合　13:30-15:30選考②第三回検討会(15:30-17:00)
CATEGORIES:現役
END:VEVENT
BEGIN:VEVENT
UID:5680-2386
LOCATION:     
SUMMARY:男女：通常稽古
DTSTAMP:20230322T100000
ORGANIZER;CN=WadaK:MAILTO:oxocreative@gmail.com
DTSTART:20230322T100000
DTEND:20230322T130000
URL;VALUE=URI:http://ris-ken50.net
DESCRIPTION:品川男女：10:00集合　10:30-13:00稽古
CATEGORIES:現役
END:VEVENT
BEGIN:VEVENT
UID:5669-2375
LOCATION:     
SUMMARY:off
DTSTAMP:20230323T000000
ORGANIZER;CN=WadaK:MAILTO:oxocreative@gmail.com
DTSTART:20230323T000000
DTEND:20230323T000000
URL;VALUE=URI:http://ris-ken50.net
DESCRIPTION:
CATEGORIES:現役
END:VEVENT
BEGIN:VEVENT
UID:5681-2387
LOCATION:     
SUMMARY:男女：通常稽古
DTSTAMP:20230324T100000
ORGANIZER;CN=WadaK:MAILTO:oxocreative@gmail.com
DTSTART:20230324T100000
DTEND:20230324T130000
URL;VALUE=URI:http://ris-ken50.net
DESCRIPTION:品川男女：10:00集合　10:30-13:00稽古
CATEGORIES:現役
END:VEVENT
BEGIN:VEVENT
UID:5691-2397
LOCATION:     
SUMMARY:練習試合
DTSTAMP:20230325T000000
ORGANIZER;CN=WadaK:MAILTO:oxocreative@gmail.com
DTSTART:20230325T000000
DTEND:20230325T000000
URL;VALUE=URI:http://ris-ken50.net
DESCRIPTION:日吉キャンパス
CATEGORIES:現役
END:VEVENT
BEGIN:VEVENT
UID:5692-2398
LOCATION:     
SUMMARY:通常稽古
DTSTAMP:20230326T000000
ORGANIZER;CN=WadaK:MAILTO:oxocreative@gmail.com
DTSTART:20230326T000000
DTEND:20230326T000000
URL;VALUE=URI:http://ris-ken50.net
DESCRIPTION:男子：10:00集合　10:30-13:00稽古女子：13:00集合　13:30-16:00稽古
CATEGORIES:現役
END:VEVENT
BEGIN:VEVENT
UID:5682-2388
LOCATION:     
SUMMARY:男女：通常稽古
DTSTAMP:20230327T100000
ORGANIZER;CN=WadaK:MAILTO:oxocreative@gmail.com
DTSTART:20230327T100000
DTEND:20230327T130000
URL;VALUE=URI:http://ris-ken50.net
DESCRIPTION:品川男女：10:00集合　10:30-13:00稽古
CATEGORIES:現役
END:VEVENT
BEGIN:VEVENT
UID:5683-2389
LOCATION:     
SUMMARY:男女：通常稽古
DTSTAMP:20230328T100000
ORGANIZER;CN=WadaK:MAILTO:oxocreative@gmail.com
DTSTART:20230328T100000
DTEND:20230328T130000
URL;VALUE=URI:http://ris-ken50.net
DESCRIPTION:品川男女：10:00集合　10:30-13:00稽古
CATEGORIES:現役
END:VEVENT
BEGIN:VEVENT
UID:5684-2390
LOCATION:     
SUMMARY:男女：通常稽古
DTSTAMP:20230329T100000
ORGANIZER;CN=WadaK:MAILTO:oxocreative@gmail.com
DTSTART:20230329T100000
DTEND:20230329T130000
URL;VALUE=URI:http://ris-ken50.net
DESCRIPTION:品川男女：10:00集合　10:30-13:00稽古
CATEGORIES:現役
END:VEVENT
BEGIN:VEVENT
UID:5670-2376
LOCATION:     
SUMMARY:off
DTSTAMP:20230330T000000
ORGANIZER;CN=WadaK:MAILTO:oxocreative@gmail.com
DTSTART:20230330T000000
DTEND:20230330T000000
URL;VALUE=URI:http://ris-ken50.net
DESCRIPTION:
CATEGORIES:現役
END:VEVENT
BEGIN:VEVENT
UID:5685-2391
LOCATION:     
SUMMARY:男女：通常稽古
DTSTAMP:20230331T100000
ORGANIZER;CN=WadaK:MAILTO:oxocreative@gmail.com
DTSTART:20230331T100000
DTEND:20230331T130000
URL;VALUE=URI:http://ris-ken50.net
DESCRIPTION:品川男女：10:00集合　10:30-13:00稽古
CATEGORIES:現役
END:VEVENT
END:VCALENDAR